BEGIN:VCALENDAR
VERSION:2.0
PRODID:-//152.89.235.50//NONSGML kigkonsult.se iCalcreator 2.10.23//
BEGIN:VEVENT
UID:20260419T172904CEST-9927su7ddm@152.89.235.50
DTSTAMP:20260419T152904Z
DESCRIPTION:Tropovci
DTSTART;TZID=Europe/Ljubljana:20130818T100000
DTEND;TZID=Europe/Ljubljana:20130818T110500
LOCATION:\,  
SUMMARY:Ravenska liga 2013/14: ŠD Tropovci-Tišina - KMN Vivat
END:VEVENT
BEGIN:VEVENT
UID:20260419T172904CEST-9939eWZAF8@152.89.235.50
DTSTAMP:20260419T152904Z
DESCRIPTION:Tropovci
DTSTART;TZID=Europe/Ljubljana:20130825T100000
DTEND;TZID=Europe/Ljubljana:20130825T110500
LOCATION:\,  
SUMMARY:Ravenska liga 2013/14: ŠD Tropovci-Tišina - ŠD Borejci
END:VEVENT
BEGIN:VEVENT
UID:20260419T172904CEST-99504iuRI1@152.89.235.50
DTSTAMP:20260419T152904Z
DESCRIPTION:Gradišče
DTSTART;TZID=Europe/Ljubljana:20130831T181500
DTEND;TZID=Europe/Ljubljana:20130831T192000
LOCATION:\,  
SUMMARY:Ravenska liga 2013/14: KMN Gradišče - ŠD Tropovci-Tišina
END:VEVENT
BEGIN:VEVENT
UID:20260419T172904CEST-9960tckA6I@152.89.235.50
DTSTAMP:20260419T152904Z
DESCRIPTION:Tropovci
DTSTART;TZID=Europe/Ljubljana:20130908T100000
DTEND;TZID=Europe/Ljubljana:20130908T110500
LOCATION:\,  
SUMMARY:Ravenska liga 2013/14: ŠD Tropovci-Tišina - KMN Kučnica
END:VEVENT
BEGIN:VEVENT
UID:20260419T172904CEST-9972oHvU29@152.89.235.50
DTSTAMP:20260419T152904Z
DESCRIPTION:Krajna
DTSTART;TZID=Europe/Ljubljana:20130914T200000
DTEND;TZID=Europe/Ljubljana:20130914T210500
LOCATION:\,  
SUMMARY:Ravenska liga 2013/14: KMN Krajna - ŠD Tropovci-Tišina
END:VEVENT
BEGIN:VEVENT
UID:20260419T172904CEST-9979p7Z2GZ@152.89.235.50
DTSTAMP:20260419T152904Z
DESCRIPTION:Tropovci
DTSTART;TZID=Europe/Ljubljana:20130922T100000
DTEND;TZID=Europe/Ljubljana:20130922T110500
LOCATION:\,  
SUMMARY:Ravenska liga 2013/14: ŠD Tropovci-Tišina - ŠD Dobel
END:VEVENT
BEGIN:VEVENT
UID:20260419T172904CEST-99850VSuzV@152.89.235.50
DTSTAMP:20260419T152904Z
DESCRIPTION:Černelavci
DTSTART;TZID=Europe/Ljubljana:20130928T200000
DTEND;TZID=Europe/Ljubljana:20130928T210500
LOCATION:\,  
SUMMARY:Ravenska liga 2013/14: ŠD Černelavci - ŠD Tropovci-Tišina
END:VEVENT
BEGIN:VEVENT
UID:20260419T172904CEST-9991W2Hf2G@152.89.235.50
DTSTAMP:20260419T152904Z
DESCRIPTION:Tropovci
DTSTART;TZID=Europe/Ljubljana:20131006T100000
DTEND;TZID=Europe/Ljubljana:20131006T110500
LOCATION:\,  
SUMMARY:Ravenska liga 2013/14: ŠD Tropovci-Tišina - KMN Mister Baby
END:VEVENT
BEGIN:VEVENT
UID:20260419T172904CEST-9997TNPcr4@152.89.235.50
DTSTAMP:20260419T152904Z
DESCRIPTION:Kupšinci
DTSTART;TZID=Europe/Ljubljana:20131013T100000
DTEND;TZID=Europe/Ljubljana:20131013T110500
LOCATION:\,  
SUMMARY:Ravenska liga 2013/14: ŠD i-Vent Kupšinci - ŠD Tropovci-Tišina
END:VEVENT
BEGIN:VEVENT
UID:20260419T172904CEST-0003OnSXxE@152.89.235.50
DTSTAMP:20260419T152904Z
DESCRIPTION:Tropovci
DTSTART;TZID=Europe/Ljubljana:20131020T100000
DTEND;TZID=Europe/Ljubljana:20131020T110500
LOCATION:\,  
SUMMARY:Ravenska liga 2013/14: ŠD Tropovci-Tišina - KMN Satahovci
END:VEVENT
BEGIN:VEVENT
UID:20260419T172905CEST-0810Fputb1@152.89.235.50
DTSTAMP:20260419T152905Z
DESCRIPTION:Krog
DTSTART;TZID=Europe/Ljubljana:20131027T100000
DTEND;TZID=Europe/Ljubljana:20131027T110500
LOCATION:\,  
SUMMARY:Ravenska liga 2013/14: KMN Krog 97 - ŠD Tropovci-Tišina
END:VEVENT
BEGIN:VEVENT
UID:20260419T172905CEST-08216NJ4sz@152.89.235.50
DTSTAMP:20260419T152905Z
DESCRIPTION:Tropovci
DTSTART;TZID=Europe/Ljubljana:20131103T100000
DTEND;TZID=Europe/Ljubljana:20131103T110500
LOCATION:\,  
SUMMARY:Ravenska liga 2013/14: ŠD Tropovci-Tišina - ŠD Petanjci
END:VEVENT
BEGIN:VEVENT
UID:20260419T172905CEST-08317Zvwd1@152.89.235.50
DTSTAMP:20260419T152905Z
DESCRIPTION:Murski Črnci
DTSTART;TZID=Europe/Ljubljana:20131117T100000
DTEND;TZID=Europe/Ljubljana:20131117T110500
LOCATION:\,  
SUMMARY:Ravenska liga 2013/14: KMN Mladinec - ŠD Tropovci-Tišina
END:VEVENT
BEGIN:VEVENT
UID:20260419T172905CEST-0841gb9ozH@152.89.235.50
DTSTAMP:20260419T152905Z
DESCRIPTION:Černelavci
DTSTART;TZID=Europe/Ljubljana:20140315T190000
DTEND;TZID=Europe/Ljubljana:20140315T200500
LOCATION:\,  
SUMMARY:Ravenska liga 2013/14: KMN Vivat - ŠD Tropovci-Tišina
END:VEVENT
BEGIN:VEVENT
UID:20260419T172905CEST-0851eAS3rm@152.89.235.50
DTSTAMP:20260419T152905Z
DESCRIPTION:Borejci
DTSTART;TZID=Europe/Ljubljana:20140323T100000
DTEND;TZID=Europe/Ljubljana:20140323T110500
LOCATION:\,  
SUMMARY:Ravenska liga 2013/14: ŠD Borejci - ŠD Tropovci-Tišina
END:VEVENT
BEGIN:VEVENT
UID:20260419T172905CEST-08631p8wKp@152.89.235.50
DTSTAMP:20260419T152905Z
DESCRIPTION:Tropovci
DTSTART;TZID=Europe/Ljubljana:20140330T100000
DTEND;TZID=Europe/Ljubljana:20140330T110500
LOCATION:\,  
SUMMARY:Ravenska liga 2013/14: ŠD Tropovci-Tišina - KMN Gradišče
END:VEVENT
BEGIN:VEVENT
UID:20260419T172905CEST-0875BDKdbV@152.89.235.50
DTSTAMP:20260419T152905Z
DESCRIPTION:Korovci
DTSTART;TZID=Europe/Ljubljana:20140406T100000
DTEND;TZID=Europe/Ljubljana:20140406T110500
LOCATION:\,  
SUMMARY:Ravenska liga 2013/14: KMN Kučnica - ŠD Tropovci-Tišina
END:VEVENT
BEGIN:VEVENT
UID:20260419T172905CEST-0886GoEgcO@152.89.235.50
DTSTAMP:20260419T152905Z
DESCRIPTION:Tropovci
DTSTART;TZID=Europe/Ljubljana:20140419T160000
DTEND;TZID=Europe/Ljubljana:20140419T170500
LOCATION:\,  
SUMMARY:Ravenska liga 2013/14: ŠD Tropovci-Tišina - KMN Krajna
END:VEVENT
BEGIN:VEVENT
UID:20260419T172905CEST-0898j5Uzjh@152.89.235.50
DTSTAMP:20260419T152905Z
DESCRIPTION:Rankovci
DTSTART;TZID=Europe/Ljubljana:20140421T110000
DTEND;TZID=Europe/Ljubljana:20140421T120500
LOCATION:\,  
SUMMARY:Ravenska liga 2013/14: ŠD Dobel - ŠD Tropovci-Tišina
END:VEVENT
BEGIN:VEVENT
UID:20260419T172905CEST-0909orJVwS@152.89.235.50
DTSTAMP:20260419T152905Z
DESCRIPTION:Tropovci
DTSTART;TZID=Europe/Ljubljana:20140427T100000
DTEND;TZID=Europe/Ljubljana:20140427T110500
LOCATION:\,  
SUMMARY:Ravenska liga 2013/14: ŠD Tropovci-Tišina - ŠD Černelavci
END:VEVENT
BEGIN:VEVENT
UID:20260419T172905CEST-0920gJI7Xo@152.89.235.50
DTSTAMP:20260419T152905Z
DESCRIPTION:Gederovci
DTSTART;TZID=Europe/Ljubljana:20140503T200000
DTEND;TZID=Europe/Ljubljana:20140503T210500
LOCATION:\,  
SUMMARY:Ravenska liga 2013/14: KMN Mister Baby - ŠD Tropovci-Tišina
END:VEVENT
BEGIN:VEVENT
UID:20260419T172905CEST-0931lPvAb0@152.89.235.50
DTSTAMP:20260419T152905Z
DESCRIPTION:Tropovci
DTSTART;TZID=Europe/Ljubljana:20140511T100000
DTEND;TZID=Europe/Ljubljana:20140511T110500
LOCATION:\,  
SUMMARY:Ravenska liga 2013/14: ŠD Tropovci-Tišina - ŠD i-Vent Kupšinci
END:VEVENT
BEGIN:VEVENT
UID:20260419T172905CEST-0942NXGsVD@152.89.235.50
DTSTAMP:20260419T152905Z
DESCRIPTION:Satahovci
DTSTART;TZID=Europe/Ljubljana:20140517T200000
DTEND;TZID=Europe/Ljubljana:20140517T210500
LOCATION:\,  
SUMMARY:Ravenska liga 2013/14: KMN Satahovci - ŠD Tropovci-Tišina
END:VEVENT
BEGIN:VEVENT
UID:20260419T172905CEST-0953mDAsPx@152.89.235.50
DTSTAMP:20260419T152905Z
DESCRIPTION:Tropovci
DTSTART;TZID=Europe/Ljubljana:20140525T100000
DTEND;TZID=Europe/Ljubljana:20140525T110500
LOCATION:\,  
SUMMARY:Ravenska liga 2013/14: ŠD Tropovci-Tišina - KMN Krog 97
END:VEVENT
BEGIN:VEVENT
UID:20260419T172905CEST-0964AiuuUA@152.89.235.50
DTSTAMP:20260419T152905Z
DESCRIPTION:Petanjci
DTSTART;TZID=Europe/Ljubljana:20140601T100000
DTEND;TZID=Europe/Ljubljana:20140601T110500
LOCATION:\,  
SUMMARY:Ravenska liga 2013/14: ŠD Petanjci - ŠD Tropovci-Tišina
END:VEVENT
BEGIN:VEVENT
UID:20260419T172905CEST-0975aDBmt3@152.89.235.50
DTSTAMP:20260419T152905Z
DESCRIPTION:Tropovci
DTSTART;TZID=Europe/Ljubljana:20140608T100000
DTEND;TZID=Europe/Ljubljana:20140608T110500
LOCATION:\,  
SUMMARY:Ravenska liga 2013/14: ŠD Tropovci-Tišina - KMN Mladinec
END:VEVENT
END:VCALENDAR
